BEGIN:VCALENDAR
VERSION:2.0
PRODID:-//Union villageoise - ECPv6.15.11//NONSGML v1.0//EN
CALSCALE:GREGORIAN
METHOD:PUBLISH
X-WR-CALNAME:Union villageoise
X-ORIGINAL-URL:https://uvhouyet.be
X-WR-CALDESC:Évènements pour Union villageoise
REFRESH-INTERVAL;VALUE=DURATION:PT1H
X-Robots-Tag:noindex
X-PUBLISHED-TTL:PT1H
BEGIN:VTIMEZONE
TZID:Europe/Brussels
BEGIN:DAYLIGHT
TZOFFSETFROM:+0100
TZOFFSETTO:+0200
TZNAME:CEST
DTSTART:20240331T010000
END:DAYLIGHT
BEGIN:STANDARD
TZOFFSETFROM:+0200
TZOFFSETTO:+0100
TZNAME:CET
DTSTART:20241027T010000
END:STANDARD
BEGIN:DAYLIGHT
TZOFFSETFROM:+0100
TZOFFSETTO:+0200
TZNAME:CEST
DTSTART:20250330T010000
END:DAYLIGHT
BEGIN:STANDARD
TZOFFSETFROM:+0200
TZOFFSETTO:+0100
TZNAME:CET
DTSTART:20251026T010000
END:STANDARD
BEGIN:DAYLIGHT
TZOFFSETFROM:+0100
TZOFFSETTO:+0200
TZNAME:CEST
DTSTART:20260329T010000
END:DAYLIGHT
BEGIN:STANDARD
TZOFFSETFROM:+0200
TZOFFSETTO:+0100
TZNAME:CET
DTSTART:20261025T010000
END:STANDARD
BEGIN:DAYLIGHT
TZOFFSETFROM:+0100
TZOFFSETTO:+0200
TZNAME:CEST
DTSTART:20270328T010000
END:DAYLIGHT
BEGIN:STANDARD
TZOFFSETFROM:+0200
TZOFFSETTO:+0100
TZNAME:CET
DTSTART:20271031T010000
END:STANDARD
END:VTIMEZONE
BEGIN:VEVENT
DTSTART;VALUE=DATE:20260313
DTEND;VALUE=DATE:20260314
DTSTAMP:20260421T101528
CREATED:20251119T052735Z
LAST-MODIFIED:20251119T052735Z
UID:8366-1773360000-1773446399@uvhouyet.be
SUMMARY:Collecte : PMC
DESCRIPTION:Commune : HOUYET
URL:https://uvhouyet.be/event/collecte-pmc/
CATEGORIES:Collectes de déchets
END:VEVENT
BEGIN:VEVENT
DTSTART;VALUE=DATE:20260313
DTEND;VALUE=DATE:20260314
DTSTAMP:20260421T101528
CREATED:20251119T052735Z
LAST-MODIFIED:20251119T052735Z
UID:8365-1773360000-1773446399@uvhouyet.be
SUMMARY:Collecte : DM & Organiques
DESCRIPTION:Commune : HOUYET
URL:https://uvhouyet.be/event/collecte-dm-organiques/
CATEGORIES:Collectes de déchets
END:VEVENT
BEGIN:VEVENT
DTSTART;VALUE=DATE:20260306
DTEND;VALUE=DATE:20260307
DTSTAMP:20260421T101528
CREATED:20251119T052735Z
LAST-MODIFIED:20251119T052735Z
UID:8367-1772755200-1772841599@uvhouyet.be
SUMMARY:Collecte : DM & Organiques
DESCRIPTION:Commune : HOUYET
URL:https://uvhouyet.be/event/collecte-dm-organiques-2/
CATEGORIES:Collectes de déchets
END:VEVENT
BEGIN:VEVENT
DTSTART;VALUE=DATE:20260227
DTEND;VALUE=DATE:20260228
DTSTAMP:20260421T101528
CREATED:20251119T052735Z
LAST-MODIFIED:20251119T052735Z
UID:8368-1772150400-1772236799@uvhouyet.be
SUMMARY:Collecte : DM & Organiques
DESCRIPTION:Commune : HOUYET
URL:https://uvhouyet.be/event/collecte-dm-organiques-3/
CATEGORIES:Collectes de déchets
END:VEVENT
BEGIN:VEVENT
DTSTART;VALUE=DATE:20260227
DTEND;VALUE=DATE:20260228
DTSTAMP:20260421T101528
CREATED:20251119T052735Z
LAST-MODIFIED:20251119T052735Z
UID:8369-1772150400-1772236799@uvhouyet.be
SUMMARY:Collecte : PMC
DESCRIPTION:Commune : HOUYET
URL:https://uvhouyet.be/event/collecte-pmc-2/
CATEGORIES:Collectes de déchets
END:VEVENT
BEGIN:VEVENT
DTSTART;VALUE=DATE:20260220
DTEND;VALUE=DATE:20260221
DTSTAMP:20260421T101528
CREATED:20251119T052735Z
LAST-MODIFIED:20251119T052735Z
UID:8370-1771545600-1771631999@uvhouyet.be
SUMMARY:Collecte : DM & Organiques
DESCRIPTION:Commune : HOUYET
URL:https://uvhouyet.be/event/collecte-dm-organiques-4/
CATEGORIES:Collectes de déchets
END:VEVENT
BEGIN:VEVENT
DTSTART;VALUE=DATE:20260220
DTEND;VALUE=DATE:20260221
DTSTAMP:20260421T101528
CREATED:20251119T052735Z
LAST-MODIFIED:20251119T052735Z
UID:8371-1771545600-1771631999@uvhouyet.be
SUMMARY:Collecte : Papiers & Cartons
DESCRIPTION:Commune : HOUYET
URL:https://uvhouyet.be/event/collecte-papiers-cartons/
CATEGORIES:Collectes de déchets
END:VEVENT
BEGIN:VEVENT
DTSTART;VALUE=DATE:20260213
DTEND;VALUE=DATE:20260214
DTSTAMP:20260421T101528
CREATED:20251119T052736Z
LAST-MODIFIED:20251119T052736Z
UID:8373-1770940800-1771027199@uvhouyet.be
SUMMARY:Collecte : PMC
DESCRIPTION:Commune : HOUYET
URL:https://uvhouyet.be/event/collecte-pmc-3/
CATEGORIES:Collectes de déchets
END:VEVENT
BEGIN:VEVENT
DTSTART;VALUE=DATE:20260213
DTEND;VALUE=DATE:20260214
DTSTAMP:20260421T101528
CREATED:20251119T052735Z
LAST-MODIFIED:20251119T052735Z
UID:8372-1770940800-1771027199@uvhouyet.be
SUMMARY:Collecte : DM & Organiques
DESCRIPTION:Commune : HOUYET
URL:https://uvhouyet.be/event/collecte-dm-organiques-5/
CATEGORIES:Collectes de déchets
END:VEVENT
BEGIN:VEVENT
DTSTART;VALUE=DATE:20260206
DTEND;VALUE=DATE:20260207
DTSTAMP:20260421T101528
CREATED:20251119T052736Z
LAST-MODIFIED:20251119T052736Z
UID:8374-1770336000-1770422399@uvhouyet.be
SUMMARY:Collecte : DM & Organiques
DESCRIPTION:Commune : HOUYET
URL:https://uvhouyet.be/event/collecte-dm-organiques-6/
CATEGORIES:Collectes de déchets
END:VEVENT
BEGIN:VEVENT
DTSTART;VALUE=DATE:20260130
DTEND;VALUE=DATE:20260131
DTSTAMP:20260421T101528
CREATED:20251119T052736Z
LAST-MODIFIED:20251119T052736Z
UID:8375-1769731200-1769817599@uvhouyet.be
SUMMARY:Collecte : DM & Organiques
DESCRIPTION:Commune : HOUYET
URL:https://uvhouyet.be/event/collecte-dm-organiques-7/
CATEGORIES:Collectes de déchets
END:VEVENT
BEGIN:VEVENT
DTSTART;VALUE=DATE:20260130
DTEND;VALUE=DATE:20260131
DTSTAMP:20260421T101528
CREATED:20251119T052736Z
LAST-MODIFIED:20251119T052736Z
UID:8376-1769731200-1769817599@uvhouyet.be
SUMMARY:Collecte : PMC
DESCRIPTION:Commune : HOUYET
URL:https://uvhouyet.be/event/collecte-pmc-4/
CATEGORIES:Collectes de déchets
END:VEVENT
BEGIN:VEVENT
DTSTART;VALUE=DATE:20260123
DTEND;VALUE=DATE:20260124
DTSTAMP:20260421T101528
CREATED:20251119T052736Z
LAST-MODIFIED:20251119T052736Z
UID:8377-1769126400-1769212799@uvhouyet.be
SUMMARY:Collecte : DM & Organiques
DESCRIPTION:Commune : HOUYET
URL:https://uvhouyet.be/event/collecte-dm-organiques-8/
CATEGORIES:Collectes de déchets
END:VEVENT
BEGIN:VEVENT
DTSTART;VALUE=DATE:20260123
DTEND;VALUE=DATE:20260124
DTSTAMP:20260421T101528
CREATED:20251119T052736Z
LAST-MODIFIED:20251119T052736Z
UID:8378-1769126400-1769212799@uvhouyet.be
SUMMARY:Collecte : Papiers & Cartons
DESCRIPTION:Commune : HOUYET
URL:https://uvhouyet.be/event/collecte-papiers-cartons-2/
CATEGORIES:Collectes de déchets
END:VEVENT
BEGIN:VEVENT
DTSTART;VALUE=DATE:20260116
DTEND;VALUE=DATE:20260117
DTSTAMP:20260421T101528
CREATED:20251119T052736Z
LAST-MODIFIED:20251119T052736Z
UID:8380-1768521600-1768607999@uvhouyet.be
SUMMARY:Collecte : PMC
DESCRIPTION:Commune : HOUYET
URL:https://uvhouyet.be/event/collecte-pmc-5/
CATEGORIES:Collectes de déchets
END:VEVENT
BEGIN:VEVENT
DTSTART;VALUE=DATE:20260116
DTEND;VALUE=DATE:20260117
DTSTAMP:20260421T101528
CREATED:20251119T052736Z
LAST-MODIFIED:20251119T052736Z
UID:8379-1768521600-1768607999@uvhouyet.be
SUMMARY:Collecte : DM & Organiques
DESCRIPTION:Commune : HOUYET
URL:https://uvhouyet.be/event/collecte-dm-organiques-9/
CATEGORIES:Collectes de déchets
END:VEVENT
BEGIN:VEVENT
DTSTART;VALUE=DATE:20260109
DTEND;VALUE=DATE:20260110
DTSTAMP:20260421T101528
CREATED:20251119T052736Z
LAST-MODIFIED:20251119T052736Z
UID:8381-1767916800-1768003199@uvhouyet.be
SUMMARY:Collecte : DM & Organiques
DESCRIPTION:Commune : HOUYET
URL:https://uvhouyet.be/event/collecte-dm-organiques-10/
CATEGORIES:Collectes de déchets
END:VEVENT
BEGIN:VEVENT
DTSTART;VALUE=DATE:20260102
DTEND;VALUE=DATE:20260103
DTSTAMP:20260421T101528
CREATED:20251119T052736Z
LAST-MODIFIED:20251119T052736Z
UID:8382-1767312000-1767398399@uvhouyet.be
SUMMARY:Collecte : DM & Organiques
DESCRIPTION:Commune : HOUYET
URL:https://uvhouyet.be/event/collecte-dm-organiques-11/
CATEGORIES:Collectes de déchets
END:VEVENT
BEGIN:VEVENT
DTSTART;VALUE=DATE:20260102
DTEND;VALUE=DATE:20260103
DTSTAMP:20260421T101528
CREATED:20251119T052736Z
LAST-MODIFIED:20251119T052736Z
UID:8383-1767312000-1767398399@uvhouyet.be
SUMMARY:Collecte : PMC
DESCRIPTION:Commune : HOUYET
URL:https://uvhouyet.be/event/collecte-pmc-6/
CATEGORIES:Collectes de déchets
END:VEVENT
BEGIN:VEVENT
DTSTART;VALUE=DATE:20251226
DTEND;VALUE=DATE:20251227
DTSTAMP:20260421T101528
CREATED:20251119T052736Z
LAST-MODIFIED:20251119T052736Z
UID:8384-1766707200-1766793599@uvhouyet.be
SUMMARY:Collecte : DM & Organiques
DESCRIPTION:Commune : HOUYET
URL:https://uvhouyet.be/event/collecte-dm-organiques-12/
CATEGORIES:Collectes de déchets
END:VEVENT
BEGIN:VEVENT
DTSTART;VALUE=DATE:20251226
DTEND;VALUE=DATE:20251227
DTSTAMP:20260421T101528
CREATED:20251119T052736Z
LAST-MODIFIED:20251119T052736Z
UID:8385-1766707200-1766793599@uvhouyet.be
SUMMARY:Collecte : Papiers & Cartons
DESCRIPTION:Commune : HOUYET
URL:https://uvhouyet.be/event/collecte-papiers-cartons-3/
CATEGORIES:Collectes de déchets
END:VEVENT
BEGIN:VEVENT
DTSTART;VALUE=DATE:20251219
DTEND;VALUE=DATE:20251220
DTSTAMP:20260421T101528
CREATED:20251119T052736Z
LAST-MODIFIED:20251119T052736Z
UID:8386-1766102400-1766188799@uvhouyet.be
SUMMARY:Collecte : DM & Organiques
DESCRIPTION:Commune : HOUYET
URL:https://uvhouyet.be/event/collecte-dm-organiques-13/
CATEGORIES:Collectes de déchets
END:VEVENT
BEGIN:VEVENT
DTSTART;VALUE=DATE:20251219
DTEND;VALUE=DATE:20251220
DTSTAMP:20260421T101528
CREATED:20251119T052736Z
LAST-MODIFIED:20251119T052736Z
UID:8387-1766102400-1766188799@uvhouyet.be
SUMMARY:Collecte : PMC
DESCRIPTION:Commune : HOUYET
URL:https://uvhouyet.be/event/collecte-pmc-7/
CATEGORIES:Collectes de déchets
END:VEVENT
BEGIN:VEVENT
DTSTART;VALUE=DATE:20251212
DTEND;VALUE=DATE:20251213
DTSTAMP:20260421T101528
CREATED:20251119T052736Z
LAST-MODIFIED:20251119T052736Z
UID:8388-1765497600-1765583999@uvhouyet.be
SUMMARY:Collecte : DM & Organiques
DESCRIPTION:Commune : HOUYET
URL:https://uvhouyet.be/event/collecte-dm-organiques-14/
CATEGORIES:Collectes de déchets
END:VEVENT
BEGIN:VEVENT
DTSTART;VALUE=DATE:20251205
DTEND;VALUE=DATE:20251206
DTSTAMP:20260421T101528
CREATED:20251119T052737Z
LAST-MODIFIED:20251119T052737Z
UID:8390-1764892800-1764979199@uvhouyet.be
SUMMARY:Collecte : PMC
DESCRIPTION:Commune : HOUYET
URL:https://uvhouyet.be/event/collecte-pmc-8/
CATEGORIES:Collectes de déchets
END:VEVENT
BEGIN:VEVENT
DTSTART;VALUE=DATE:20251205
DTEND;VALUE=DATE:20251206
DTSTAMP:20260421T101528
CREATED:20251119T052736Z
LAST-MODIFIED:20251119T052736Z
UID:8389-1764892800-1764979199@uvhouyet.be
SUMMARY:Collecte : DM & Organiques
DESCRIPTION:Commune : HOUYET
URL:https://uvhouyet.be/event/collecte-dm-organiques-15/
CATEGORIES:Collectes de déchets
END:VEVENT
BEGIN:VEVENT
DTSTART;VALUE=DATE:20251128
DTEND;VALUE=DATE:20251129
DTSTAMP:20260421T101528
CREATED:20251119T052737Z
LAST-MODIFIED:20251119T052737Z
UID:8391-1764288000-1764374399@uvhouyet.be
SUMMARY:Collecte : DM & Organiques
DESCRIPTION:Commune : HOUYET
URL:https://uvhouyet.be/event/collecte-dm-organiques-16/
CATEGORIES:Collectes de déchets
END:VEVENT
BEGIN:VEVENT
DTSTART;VALUE=DATE:20251128
DTEND;VALUE=DATE:20251129
DTSTAMP:20260421T101528
CREATED:20251119T052737Z
LAST-MODIFIED:20251119T052737Z
UID:8392-1764288000-1764374399@uvhouyet.be
SUMMARY:Collecte : Papiers & Cartons
DESCRIPTION:Commune : HOUYET
URL:https://uvhouyet.be/event/collecte-papiers-cartons-4/
CATEGORIES:Collectes de déchets
END:VEVENT
BEGIN:VEVENT
DTSTART;VALUE=DATE:20251121
DTEND;VALUE=DATE:20251122
DTSTAMP:20260421T101528
CREATED:20251119T052737Z
LAST-MODIFIED:20251119T052737Z
UID:8393-1763683200-1763769599@uvhouyet.be
SUMMARY:Collecte : DM & Organiques
DESCRIPTION:Commune : HOUYET
URL:https://uvhouyet.be/event/collecte-dm-organiques-17/
CATEGORIES:Collectes de déchets
END:VEVENT
BEGIN:VEVENT
DTSTART;VALUE=DATE:20251121
DTEND;VALUE=DATE:20251122
DTSTAMP:20260421T101528
CREATED:20251119T052737Z
LAST-MODIFIED:20251119T052737Z
UID:8394-1763683200-1763769599@uvhouyet.be
SUMMARY:Collecte : PMC
DESCRIPTION:Commune : HOUYET
URL:https://uvhouyet.be/event/collecte-pmc-9/
CATEGORIES:Collectes de déchets
END:VEVENT
END:VCALENDAR