BEGIN:VCALENDAR
VERSION:2.0
PRODID:-//Union villageoise - ECPv6.15.11//NONSGML v1.0//EN
CALSCALE:GREGORIAN
METHOD:PUBLISH
X-ORIGINAL-URL:https://uvhouyet.be
X-WR-CALDESC:Évènements pour Union villageoise
REFRESH-INTERVAL;VALUE=DURATION:PT1H
X-Robots-Tag:noindex
X-PUBLISHED-TTL:PT1H
BEGIN:VTIMEZONE
TZID:Europe/Brussels
BEGIN:DAYLIGHT
TZOFFSETFROM:+0100
TZOFFSETTO:+0200
TZNAME:CEST
DTSTART:20250330T010000
END:DAYLIGHT
BEGIN:STANDARD
TZOFFSETFROM:+0200
TZOFFSETTO:+0100
TZNAME:CET
DTSTART:20251026T010000
END:STANDARD
BEGIN:DAYLIGHT
TZOFFSETFROM:+0100
TZOFFSETTO:+0200
TZNAME:CEST
DTSTART:20260329T010000
END:DAYLIGHT
BEGIN:STANDARD
TZOFFSETFROM:+0200
TZOFFSETTO:+0100
TZNAME:CET
DTSTART:20261025T010000
END:STANDARD
BEGIN:DAYLIGHT
TZOFFSETFROM:+0100
TZOFFSETTO:+0200
TZNAME:CEST
DTSTART:20270328T010000
END:DAYLIGHT
BEGIN:STANDARD
TZOFFSETFROM:+0200
TZOFFSETTO:+0100
TZNAME:CET
DTSTART:20271031T010000
END:STANDARD
END:VTIMEZONE
BEGIN:VEVENT
DTSTART;VALUE=DATE:20260206
DTEND;VALUE=DATE:20260207
DTSTAMP:20260421T133216
CREATED:20251119T052736Z
LAST-MODIFIED:20251119T052736Z
UID:8374-1770336000-1770422399@uvhouyet.be
SUMMARY:Collecte : DM & Organiques
DESCRIPTION:Commune : HOUYET
URL:https://uvhouyet.be/event/collecte-dm-organiques-6/
CATEGORIES:Collectes de déchets
END:VEVENT
BEGIN:VEVENT
DTSTART;VALUE=DATE:20260213
DTEND;VALUE=DATE:20260214
DTSTAMP:20260421T133216
CREATED:20251119T052735Z
LAST-MODIFIED:20251119T052735Z
UID:8372-1770940800-1771027199@uvhouyet.be
SUMMARY:Collecte : DM & Organiques
DESCRIPTION:Commune : HOUYET
URL:https://uvhouyet.be/event/collecte-dm-organiques-5/
CATEGORIES:Collectes de déchets
END:VEVENT
BEGIN:VEVENT
DTSTART;VALUE=DATE:20260213
DTEND;VALUE=DATE:20260214
DTSTAMP:20260421T133216
CREATED:20251119T052736Z
LAST-MODIFIED:20251119T052736Z
UID:8373-1770940800-1771027199@uvhouyet.be
SUMMARY:Collecte : PMC
DESCRIPTION:Commune : HOUYET
URL:https://uvhouyet.be/event/collecte-pmc-3/
CATEGORIES:Collectes de déchets
END:VEVENT
BEGIN:VEVENT
DTSTART;VALUE=DATE:20260220
DTEND;VALUE=DATE:20260221
DTSTAMP:20260421T133216
CREATED:20251119T052735Z
LAST-MODIFIED:20251119T052735Z
UID:8370-1771545600-1771631999@uvhouyet.be
SUMMARY:Collecte : DM & Organiques
DESCRIPTION:Commune : HOUYET
URL:https://uvhouyet.be/event/collecte-dm-organiques-4/
CATEGORIES:Collectes de déchets
END:VEVENT
BEGIN:VEVENT
DTSTART;VALUE=DATE:20260220
DTEND;VALUE=DATE:20260221
DTSTAMP:20260421T133216
CREATED:20251119T052735Z
LAST-MODIFIED:20251119T052735Z
UID:8371-1771545600-1771631999@uvhouyet.be
SUMMARY:Collecte : Papiers & Cartons
DESCRIPTION:Commune : HOUYET
URL:https://uvhouyet.be/event/collecte-papiers-cartons/
CATEGORIES:Collectes de déchets
END:VEVENT
BEGIN:VEVENT
DTSTART;VALUE=DATE:20260227
DTEND;VALUE=DATE:20260228
DTSTAMP:20260421T133216
CREATED:20251119T052735Z
LAST-MODIFIED:20251119T052735Z
UID:8368-1772150400-1772236799@uvhouyet.be
SUMMARY:Collecte : DM & Organiques
DESCRIPTION:Commune : HOUYET
URL:https://uvhouyet.be/event/collecte-dm-organiques-3/
CATEGORIES:Collectes de déchets
END:VEVENT
BEGIN:VEVENT
DTSTART;VALUE=DATE:20260227
DTEND;VALUE=DATE:20260228
DTSTAMP:20260421T133216
CREATED:20251119T052735Z
LAST-MODIFIED:20251119T052735Z
UID:8369-1772150400-1772236799@uvhouyet.be
SUMMARY:Collecte : PMC
DESCRIPTION:Commune : HOUYET
URL:https://uvhouyet.be/event/collecte-pmc-2/
CATEGORIES:Collectes de déchets
END:VEVENT
END:VCALENDAR