BEGIN:VCALENDAR
VERSION:2.0
PRODID:-//Union villageoise - ECPv6.15.11//NONSGML v1.0//EN
CALSCALE:GREGORIAN
METHOD:PUBLISH
X-WR-CALNAME:Union villageoise
X-ORIGINAL-URL:https://uvhouyet.be
X-WR-CALDESC:Évènements pour Union villageoise
REFRESH-INTERVAL;VALUE=DURATION:PT1H
X-Robots-Tag:noindex
X-PUBLISHED-TTL:PT1H
BEGIN:VTIMEZONE
TZID:Europe/Brussels
BEGIN:DAYLIGHT
TZOFFSETFROM:+0100
TZOFFSETTO:+0200
TZNAME:CEST
DTSTART:20250330T010000
END:DAYLIGHT
BEGIN:STANDARD
TZOFFSETFROM:+0200
TZOFFSETTO:+0100
TZNAME:CET
DTSTART:20251026T010000
END:STANDARD
BEGIN:DAYLIGHT
TZOFFSETFROM:+0100
TZOFFSETTO:+0200
TZNAME:CEST
DTSTART:20260329T010000
END:DAYLIGHT
BEGIN:STANDARD
TZOFFSETFROM:+0200
TZOFFSETTO:+0100
TZNAME:CET
DTSTART:20261025T010000
END:STANDARD
BEGIN:DAYLIGHT
TZOFFSETFROM:+0100
TZOFFSETTO:+0200
TZNAME:CEST
DTSTART:20270328T010000
END:DAYLIGHT
BEGIN:STANDARD
TZOFFSETFROM:+0200
TZOFFSETTO:+0100
TZNAME:CET
DTSTART:20271031T010000
END:STANDARD
END:VTIMEZONE
BEGIN:VEVENT
DTSTART;VALUE=DATE:20260306
DTEND;VALUE=DATE:20260307
DTSTAMP:20260421T115404
CREATED:20251119T052735Z
LAST-MODIFIED:20251119T052735Z
UID:8367-1772755200-1772841599@uvhouyet.be
SUMMARY:Collecte : DM & Organiques
DESCRIPTION:Commune : HOUYET
URL:https://uvhouyet.be/event/collecte-dm-organiques-2/
CATEGORIES:Collectes de déchets
END:VEVENT
BEGIN:VEVENT
DTSTART;VALUE=DATE:20260313
DTEND;VALUE=DATE:20260314
DTSTAMP:20260421T115404
CREATED:20251119T052735Z
LAST-MODIFIED:20251119T052735Z
UID:8365-1773360000-1773446399@uvhouyet.be
SUMMARY:Collecte : DM & Organiques
DESCRIPTION:Commune : HOUYET
URL:https://uvhouyet.be/event/collecte-dm-organiques/
CATEGORIES:Collectes de déchets
END:VEVENT
BEGIN:VEVENT
DTSTART;VALUE=DATE:20260313
DTEND;VALUE=DATE:20260314
DTSTAMP:20260421T115404
CREATED:20251119T052735Z
LAST-MODIFIED:20251119T052735Z
UID:8366-1773360000-1773446399@uvhouyet.be
SUMMARY:Collecte : PMC
DESCRIPTION:Commune : HOUYET
URL:https://uvhouyet.be/event/collecte-pmc/
CATEGORIES:Collectes de déchets
END:VEVENT
END:VCALENDAR